BEGIN:VCALENDAR
VERSION:2.0
PRODID:icalendar-ruby
CALSCALE:GREGORIAN
METHOD:PUBLISH
BEGIN:VEVENT
DTSTAMP:20260422T012831Z
UID:26-585798@thelighthouseint.com
DTSTART:20261109T010000Z
DTEND:20261109T030000Z
CLASS:PUBLIC
CREATED:20260421T173538
DESCRIPTION:Youth Group meets every 1st\, 2nd\, and 3rd Sunday at the Churc
 h!\nReach out to Youth Pastor\, Justin Payne\, for more information - (432
 ) 260-9426
LAST-MODIFIED:20260421T173538
LOCATION:63140 LA-1090\, Pearl River\, LA\, 70452
SUMMARY:Youth
URL;VALUE=URI:https://www.thelighthouseint.com/events/youth--26/2026-11-08
ATTACH;FILENAME=Youth.png;FMTTYPE=image/png:https://dq5pwpg1q8ru0.cloudfron
 t.net/2026/01/08/22/52/03/74ab42f8-64a7-4af8-99bd-6b9aae99ef17/Youth.png
END:VEVENT
END:VCALENDAR
