BEGIN:VCALENDAR
VERSION:2.0
PRODID:icalendar-ruby
CALSCALE:GREGORIAN
METHOD:PUBLISH
BEGIN:VEVENT
DTSTAMP:20260422T224743Z
UID:13-586617@thelighthouseint.com
DTSTART:20261011T170000Z
DTEND:20261011T190000Z
CLASS:PUBLIC
CREATED:20260422T132320
DESCRIPTION:
LAST-MODIFIED:20260422T132320
LOCATION:63140 LA-1090\, Pearl River\, LA\, 70452
SUMMARY:Sunday Morning Service
URL;VALUE=URI:https://www.thelighthouseint.com/events/sunday-morning-servic
 e--13/2026-10-11
ATTACH;FILENAME=Service-29.jpg;FMTTYPE=image/jpeg:https://dq5pwpg1q8ru0.clo
 udfront.net/2025/08/21/20/19/01/e4ef337b-86e3-4273-8f68-5549721c11b6/Servi
 ce-29.jpg
END:VEVENT
END:VCALENDAR
